BEGIN:VCALENDAR
METHOD:PUBLISH
VERSION:2.0
CALSCALE:GREGORIAN
BEGIN:VTIMEZONE
TZID:Europe/Paris
BEGIN:DAYLIGHT
TZOFFSETFROM:+0100
RRULE:FREQ=YEARLY;BYMONTH=3;BYDAY=-1SU
DTSTART:19810329T020000
TZNAME:UTC+2
TZOFFSETTO:+0200
END:DAYLIGHT
BEGIN:STANDARD
TZOFFSETFROM:+0200
RRULE:FREQ=YEARLY;BYMONTH=10;BYDAY=-1SU
DTSTART:19961027T030000
TZNAME:UTC+1
TZOFFSETTO:+0100
END:STANDARD
END:VTIMEZONE
BEGIN:VEVENT
UID:6403
DTSTART;TZID=Europe/Paris:20251118T090000
DTEND;TZID=Europe/Paris:20251118T120000
DTSTAMP;TZID=Europe/Paris:20260424T132217
LOCATION:LES RUES DES VIGNES
SUMMARY:Immersion en entreprise et découverte de Royal Canin
DESCRIPTION:Une immersion incontournable dans l'univers croquettes chez Royal Canin ! Quoi de mieux que de venir rencontrer des spécialistes de l'agroalimentaire pour comprendre les enjeux de ces métiers et découvrir l'univers du groupe MARS au travers de l'entreprise...
URL;VALUE=URI:https://www.ellesbougent.com/agenda/calendrier/immersion-en-entreprise-et-decouverte-de-royal-canin-6403/
SEQUENCE:0
END:VEVENT
END:VCALENDAR
