BEGIN:VCALENDAR
METHOD:PUBLISH
VERSION:2.0
CALSCALE:GREGORIAN
BEGIN:VTIMEZONE
TZID:Europe/Paris
BEGIN:DAYLIGHT
TZOFFSETFROM:+0100
RRULE:FREQ=YEARLY;BYMONTH=3;BYDAY=-1SU
DTSTART:19810329T020000
TZNAME:UTC+2
TZOFFSETTO:+0200
END:DAYLIGHT
BEGIN:STANDARD
TZOFFSETFROM:+0200
RRULE:FREQ=YEARLY;BYMONTH=10;BYDAY=-1SU
DTSTART:19961027T030000
TZNAME:UTC+1
TZOFFSETTO:+0100
END:STANDARD
END:VTIMEZONE
BEGIN:VEVENT
UID:6371
DTSTART;TZID=Europe/Paris:20251117T090000
DTEND;TZID=Europe/Paris:20251117T133000
DTSTAMP;TZID=Europe/Paris:20260424T132445
LOCATION:Chalon sur Saone
SUMMARY:Immersion dans un centre de formation grandeur nature de centrale nucléaire
DESCRIPTION:Découvrez les coulisses du nucléaire en visitant le CETIC : centre de formation unique au monde destiné aux opérateurs de la filière nucléaire ou nos équipes Framatome s'entrainent. Situé en Bourgogne, le CETIC contribue au rayonnement de notre territoire...
URL;VALUE=URI:https://www.ellesbougent.com/agenda/calendrier/immersion-dans-un-centre-de-formation-grandeur-nature-de-centrale-nucleaire-6371/
SEQUENCE:0
END:VEVENT
END:VCALENDAR
