BEGIN:VCALENDAR
METHOD:PUBLISH
VERSION:2.0
CALSCALE:GREGORIAN
BEGIN:VTIMEZONE
TZID:Europe/Paris
BEGIN:DAYLIGHT
TZOFFSETFROM:+0100
RRULE:FREQ=YEARLY;BYMONTH=3;BYDAY=-1SU
DTSTART:19810329T020000
TZNAME:UTC+2
TZOFFSETTO:+0200
END:DAYLIGHT
BEGIN:STANDARD
TZOFFSETFROM:+0200
RRULE:FREQ=YEARLY;BYMONTH=10;BYDAY=-1SU
DTSTART:19961027T030000
TZNAME:UTC+1
TZOFFSETTO:+0100
END:STANDARD
END:VTIMEZONE
BEGIN:VEVENT
UID:4325
DTSTART;TZID=Europe/Paris:20240220T093000
DTEND;TZID=Europe/Paris:20240220T120000
DTSTAMP;TZID=Europe/Paris:20260423T201958
LOCATION:Venette
SUMMARY:Immersion au sein de l'usine Plastic Omnium de Compiègne
DESCRIPTION:L'usine Plastic Omnium de Compiègne propose d'accueillir un groupe de collègiennes, lycéennes ou étudiantes afin de :  leur présenter l'entreprise et l'histoire de l'usine faire une visite complète de l'atelier de production profitez d'un échange avec une...
URL;VALUE=URI:https://www.ellesbougent.com/agenda/calendrier/immersion-au-sein-de-usine-plastic-omnium-de-compiegne-4325/
SEQUENCE:0
END:VEVENT
END:VCALENDAR
