BEGIN:VCALENDAR
METHOD:PUBLISH
VERSION:2.0
CALSCALE:GREGORIAN
BEGIN:VTIMEZONE
TZID:Europe/Paris
BEGIN:DAYLIGHT
TZOFFSETFROM:+0100
RRULE:FREQ=YEARLY;BYMONTH=3;BYDAY=-1SU
DTSTART:19810329T020000
TZNAME:UTC+2
TZOFFSETTO:+0200
END:DAYLIGHT
BEGIN:STANDARD
TZOFFSETFROM:+0200
RRULE:FREQ=YEARLY;BYMONTH=10;BYDAY=-1SU
DTSTART:19961027T030000
TZNAME:UTC+1
TZOFFSETTO:+0100
END:STANDARD
END:VTIMEZONE
BEGIN:VEVENT
UID:6285
DTSTART;TZID=Europe/Paris:20251121T090000
DTEND;TZID=Europe/Paris:20251121T170000
DTSTAMP;TZID=Europe/Paris:20260424T131540
LOCATION:Cesson Sévigné
SUMMARY:Hacke ton avenir chez Capgemini !
DESCRIPTION:Curieuse, créative, vous voulez imaginer des solutions utiles pour le monde de demain ? Venez expérimenter le quotidien d'une équipe projet lors d'une journée exceptionnelle chez Capgemini (leader du numérique 😊) ! L'objectif : Vous mettre dans...
URL;VALUE=URI:https://www.ellesbougent.com/agenda/calendrier/hacke-ton-avenir-chez-capgemini-6285/
SEQUENCE:0
END:VEVENT
END:VCALENDAR
