BEGIN:VCALENDAR
METHOD:PUBLISH
VERSION:2.0
CALSCALE:GREGORIAN
BEGIN:VTIMEZONE
TZID:Europe/Paris
BEGIN:DAYLIGHT
TZOFFSETFROM:+0100
RRULE:FREQ=YEARLY;BYMONTH=3;BYDAY=-1SU
DTSTART:19810329T020000
TZNAME:UTC+2
TZOFFSETTO:+0200
END:DAYLIGHT
BEGIN:STANDARD
TZOFFSETFROM:+0200
RRULE:FREQ=YEARLY;BYMONTH=10;BYDAY=-1SU
DTSTART:19961027T030000
TZNAME:UTC+1
TZOFFSETTO:+0100
END:STANDARD
END:VTIMEZONE
BEGIN:VEVENT
UID:6098
DTSTART;TZID=Europe/Paris:20251118T093000
DTEND;TZID=Europe/Paris:20251118T123000
DTSTAMP;TZID=Europe/Paris:20260424T132044
LOCATION:Meylan
SUMMARY:Framatome s'engage pour féminiser l'industrie du nucléaire
DESCRIPTION:Prêtes à vous plonger dans l'univers fascinant de Framatome ! Rejoignez-nous pour une matinée immersive et venez explorer notre entreprise. Vous y découvrirez notre secteur d'activité et nos métiers, présentés à travers des différentes visites, vidéos...
URL;VALUE=URI:https://www.ellesbougent.com/agenda/calendrier/framatome-s-engage-pour-feminiser-industrie-du-nucleaire-6098/
SEQUENCE:0
END:VEVENT
END:VCALENDAR
