BEGIN:VCALENDAR
METHOD:PUBLISH
VERSION:2.0
CALSCALE:GREGORIAN
BEGIN:VTIMEZONE
TZID:Europe/Paris
BEGIN:DAYLIGHT
TZOFFSETFROM:+0100
RRULE:FREQ=YEARLY;BYMONTH=3;BYDAY=-1SU
DTSTART:19810329T020000
TZNAME:UTC+2
TZOFFSETTO:+0200
END:DAYLIGHT
BEGIN:STANDARD
TZOFFSETFROM:+0200
RRULE:FREQ=YEARLY;BYMONTH=10;BYDAY=-1SU
DTSTART:19961027T030000
TZNAME:UTC+1
TZOFFSETTO:+0100
END:STANDARD
END:VTIMEZONE
BEGIN:VEVENT
UID:2532
DTSTART;TZID=Europe/Paris:20220512T100000
DTEND;TZID=Europe/Paris:20220512T110000
DTSTAMP;TZID=Europe/Paris:20260420T161840
LOCATION:100% digital
SUMMARY:Forum Réseaux et Carrières au Féminin - Atelier RH - Les attentes des recruteur.e.s à lors de l'entretien
DESCRIPTION:Inscrivez votre entreprise à l'atelier "Les attentes des recruteur.e.s à lors de l'entretien" et co-animez ce webinaire avec une autre entreprise partenaire !  QUAND : Le 12 mai 2022 de 13h00 à 14h00 DURÉE : 60 minutes THÉMATIQUE DE...
URL;VALUE=URI:https://www.ellesbougent.com/agenda/calendrier/forum-reseaux-et-carrieres-au-feminin-atelier-rh-les-attentes-des-recruteur-e-s-a-lors-de-entretien-2532/
SEQUENCE:0
END:VEVENT
END:VCALENDAR
