BEGIN:VCALENDAR
METHOD:PUBLISH
VERSION:2.0
CALSCALE:GREGORIAN
BEGIN:VTIMEZONE
TZID:Europe/Paris
BEGIN:DAYLIGHT
TZOFFSETFROM:+0100
RRULE:FREQ=YEARLY;BYMONTH=3;BYDAY=-1SU
DTSTART:19810329T020000
TZNAME:UTC+2
TZOFFSETTO:+0200
END:DAYLIGHT
BEGIN:STANDARD
TZOFFSETFROM:+0200
RRULE:FREQ=YEARLY;BYMONTH=10;BYDAY=-1SU
DTSTART:19961027T030000
TZNAME:UTC+1
TZOFFSETTO:+0100
END:STANDARD
END:VTIMEZONE
BEGIN:VEVENT
UID:4397
DTSTART;TZID=Europe/Paris:20240329T090000
DTEND;TZID=Europe/Paris:20240330T180000
DTSTAMP;TZID=Europe/Paris:20260422T183247
LOCATION:Quartier Jeune - 4 place du Louvre 75001 Paris
SUMMARY:Forum des métiers de la Marine Nationale
DESCRIPTION:Le service de recrutement de la Marine a le plaisir de vous inviter au grand forum des métiers de la Marine nationale au Quartier Jeunes (QJ) les 29 &amp; 30 mars 2024 ! Au sein d'un lieu emblématique de la Mairie de Paris, vous pourrez retrouver les 80...
URL;VALUE=URI:https://www.ellesbougent.com/agenda/calendrier/forum-des-metiers-de-la-marine-nationale-4397/
SEQUENCE:0
END:VEVENT
END:VCALENDAR
