BEGIN:VCALENDAR
METHOD:PUBLISH
VERSION:2.0
CALSCALE:GREGORIAN
BEGIN:VTIMEZONE
TZID:Europe/Paris
BEGIN:DAYLIGHT
TZOFFSETFROM:+0100
RRULE:FREQ=YEARLY;BYMONTH=3;BYDAY=-1SU
DTSTART:19810329T020000
TZNAME:UTC+2
TZOFFSETTO:+0200
END:DAYLIGHT
BEGIN:STANDARD
TZOFFSETFROM:+0200
RRULE:FREQ=YEARLY;BYMONTH=10;BYDAY=-1SU
DTSTART:19961027T030000
TZNAME:UTC+1
TZOFFSETTO:+0100
END:STANDARD
END:VTIMEZONE
BEGIN:VEVENT
UID:8115
DTSTART;TZID=Europe/Paris:20260601T090000
DTEND;TZID=Europe/Paris:20260601T160000
DTSTAMP;TZID=Europe/Paris:20260421T142204
LOCATION:BELLEGARDE
SUMMARY:Forum des métiers au collège Fédérico Garcia Lorca à Bellegarde
DESCRIPTION:Bonjour, Le collège Fédérico Garcia Lorca organise un forum des métiers autour duquel l'accent sera mis sur les stéréotypes de genre et notamment sur le fait d'inciter les filles à avoir confiance en leurs capacité à s'engager dans certains secteurs.Ce forum...
URL;VALUE=URI:https://www.ellesbougent.com/agenda/calendrier/forum-des-metiers-au-college-federico-garcia-lorca-a-bellegarde-8115/
SEQUENCE:0
END:VEVENT
END:VCALENDAR
