BEGIN:VCALENDAR
METHOD:PUBLISH
VERSION:2.0
CALSCALE:GREGORIAN
BEGIN:VTIMEZONE
TZID:Europe/Paris
BEGIN:DAYLIGHT
TZOFFSETFROM:+0100
RRULE:FREQ=YEARLY;BYMONTH=3;BYDAY=-1SU
DTSTART:19810329T020000
TZNAME:UTC+2
TZOFFSETTO:+0200
END:DAYLIGHT
BEGIN:STANDARD
TZOFFSETFROM:+0200
RRULE:FREQ=YEARLY;BYMONTH=10;BYDAY=-1SU
DTSTART:19961027T030000
TZNAME:UTC+1
TZOFFSETTO:+0100
END:STANDARD
END:VTIMEZONE
BEGIN:VEVENT
UID:6311
DTSTART;TZID=Europe/Paris:20251120T133000
DTEND;TZID=Europe/Paris:20251120T173000
DTSTAMP;TZID=Europe/Paris:20260424T133909
LOCATION:Cholet
SUMMARY:Filles et Ingénierie : Ton Avenir s’Invente Ici\, chez Thales à Cholet !
DESCRIPTION:Lors de cet événement exceptionnel dédié aux jeunes filles à partir de la classe de 4ème, plongez dans l'univers passionnant de l'ingénierie chez Thales ! Dès votre arrivée, vous serez accueillie par nos équipes et découvrirez nos espaces...
URL;VALUE=URI:https://www.ellesbougent.com/agenda/calendrier/filles-et-ingenierie-ton-avenir-s-invente-ici-chez-thales-a-cholet-6311/
SEQUENCE:0
END:VEVENT
END:VCALENDAR
