BEGIN:VCALENDAR
METHOD:PUBLISH
VERSION:2.0
CALSCALE:GREGORIAN
BEGIN:VTIMEZONE
TZID:Europe/Paris
BEGIN:DAYLIGHT
TZOFFSETFROM:+0100
RRULE:FREQ=YEARLY;BYMONTH=3;BYDAY=-1SU
DTSTART:19810329T020000
TZNAME:UTC+2
TZOFFSETTO:+0200
END:DAYLIGHT
BEGIN:STANDARD
TZOFFSETFROM:+0200
RRULE:FREQ=YEARLY;BYMONTH=10;BYDAY=-1SU
DTSTART:19961027T030000
TZNAME:UTC+1
TZOFFSETTO:+0100
END:STANDARD
END:VTIMEZONE
BEGIN:VEVENT
UID:6288
DTSTART;TZID=Europe/Paris:20251117T090000
DTEND;TZID=Europe/Paris:20251117T123000
DTSTAMP;TZID=Europe/Paris:20260424T131657
LOCATION:Aix en Provence
SUMMARY:Expérimentez l’Industrie au Futur
DESCRIPTION:Expérimentez l'Industrie au Futur L'éditeur de logiciels PTC invite les lycéennes et les étudiantes à venir passer une après-midi pour découvrir comment l'innovation et les nouvelles technologies transforment l'industrie et pour la rendre plus performante, plus...
URL;VALUE=URI:https://www.ellesbougent.com/agenda/calendrier/experimentez-industrie-au-futur-6288/
SEQUENCE:0
END:VEVENT
END:VCALENDAR
