BEGIN:VCALENDAR
METHOD:PUBLISH
VERSION:2.0
CALSCALE:GREGORIAN
BEGIN:VTIMEZONE
TZID:Europe/Paris
BEGIN:DAYLIGHT
TZOFFSETFROM:+0100
RRULE:FREQ=YEARLY;BYMONTH=3;BYDAY=-1SU
DTSTART:19810329T020000
TZNAME:UTC+2
TZOFFSETTO:+0200
END:DAYLIGHT
BEGIN:STANDARD
TZOFFSETFROM:+0200
RRULE:FREQ=YEARLY;BYMONTH=10;BYDAY=-1SU
DTSTART:19961027T030000
TZNAME:UTC+1
TZOFFSETTO:+0100
END:STANDARD
END:VTIMEZONE
BEGIN:VEVENT
UID:5964
DTSTART;TZID=Europe/Paris:20251009T140000
DTEND;TZID=Europe/Paris:20251009T170000
DTSTAMP;TZID=Europe/Paris:20260424T182052
LOCATION:Toulon
SUMMARY:Etudiantes\, rencontrez les marraines de Naval Group et de la  Marine Nationale 
DESCRIPTION:Dans le cadre des Elles de l'océan et de l'année de la mer, La Marine Nationale et Naval Group s'associent pour faire découvrir aux étudiantes de Bac +2 à Bac +5, la grande diversité des métiers liés à l'industrie navale de défense. Au programme de cet...
URL;VALUE=URI:https://www.ellesbougent.com/agenda/calendrier/etudiantes-rencontrez-les-marraines-de-naval-group-et-de-la-marine-nationale-5964/
SEQUENCE:0
END:VEVENT
END:VCALENDAR
