BEGIN:VCALENDAR
METHOD:PUBLISH
VERSION:2.0
CALSCALE:GREGORIAN
BEGIN:VTIMEZONE
TZID:Europe/Paris
BEGIN:DAYLIGHT
TZOFFSETFROM:+0100
RRULE:FREQ=YEARLY;BYMONTH=3;BYDAY=-1SU
DTSTART:19810329T020000
TZNAME:UTC+2
TZOFFSETTO:+0200
END:DAYLIGHT
BEGIN:STANDARD
TZOFFSETFROM:+0200
RRULE:FREQ=YEARLY;BYMONTH=10;BYDAY=-1SU
DTSTART:19961027T030000
TZNAME:UTC+1
TZOFFSETTO:+0100
END:STANDARD
END:VTIMEZONE
BEGIN:VEVENT
UID:5990
DTSTART;TZID=Europe/Paris:20251118T133000
DTEND;TZID=Europe/Paris:20251118T160000
DTSTAMP;TZID=Europe/Paris:20260424T133751
LOCATION:ISSOIRE
SUMMARY:« Essuie-glaces en action : exploration du savoir-faire Valeo Issoire »
DESCRIPTION:Constitution de deux groupes de 12 jeunes filles permettant d'alterner entre : - Tables rondes (à la rencontre de nos marraines et découverte de nos différents métiers) - Visite laboratoire R&amp;D et usine
URL;VALUE=URI:https://www.ellesbougent.com/agenda/calendrier/essuie-glaces-en-action-exploration-du-savoir-faire-valeo-issoire-5990/
SEQUENCE:0
END:VEVENT
END:VCALENDAR
