BEGIN:VCALENDAR
METHOD:PUBLISH
VERSION:2.0
CALSCALE:GREGORIAN
BEGIN:VTIMEZONE
TZID:Europe/Paris
BEGIN:DAYLIGHT
TZOFFSETFROM:+0100
RRULE:FREQ=YEARLY;BYMONTH=3;BYDAY=-1SU
DTSTART:19810329T020000
TZNAME:UTC+2
TZOFFSETTO:+0200
END:DAYLIGHT
BEGIN:STANDARD
TZOFFSETFROM:+0200
RRULE:FREQ=YEARLY;BYMONTH=10;BYDAY=-1SU
DTSTART:19961027T030000
TZNAME:UTC+1
TZOFFSETTO:+0100
END:STANDARD
END:VTIMEZONE
BEGIN:VEVENT
UID:6453
DTSTART;TZID=Europe/Paris:20251120T083000
DTEND;TZID=Europe/Paris:20251120T154500
DTSTAMP;TZID=Europe/Paris:20260424T131524
LOCATION:Bouguenais
SUMMARY:Envolez-vous vers votre avenir !
DESCRIPTION:À l'occasion de la Semaine de l'Industrie, l'équipe d'Airbus Atlantic de Nantes et les marraines de l'association "Elles Bougent" vous ouvrent les portes d'un monde passionnant : celui de l'aéronautique !Vous êtes lycéenne ou étudiante ? Vous...
URL;VALUE=URI:https://www.ellesbougent.com/agenda/calendrier/envolez-vous-vers-votre-avenir-6453/
SEQUENCE:0
END:VEVENT
END:VCALENDAR
