BEGIN:VCALENDAR
METHOD:PUBLISH
VERSION:2.0
CALSCALE:GREGORIAN
BEGIN:VTIMEZONE
TZID:Europe/Paris
BEGIN:DAYLIGHT
TZOFFSETFROM:+0100
RRULE:FREQ=YEARLY;BYMONTH=3;BYDAY=-1SU
DTSTART:19810329T020000
TZNAME:UTC+2
TZOFFSETTO:+0200
END:DAYLIGHT
BEGIN:STANDARD
TZOFFSETFROM:+0200
RRULE:FREQ=YEARLY;BYMONTH=10;BYDAY=-1SU
DTSTART:19961027T030000
TZNAME:UTC+1
TZOFFSETTO:+0100
END:STANDARD
END:VTIMEZONE
BEGIN:VEVENT
UID:6421
DTSTART;TZID=Europe/Paris:20251117T140000
DTEND;TZID=Europe/Paris:20251117T163000
DTSTAMP;TZID=Europe/Paris:20260424T133857
LOCATION:Issoudun
SUMMARY:Envole-toi vers ton avenir : Rencontre les marraines de l’industrie chez Safran Seats
DESCRIPTION:Safran Seats a le plaisir d'ouvrir les portes de son site d'Issoudun aux collégiennes, lycéennes et étudiantes passionnées par la découverte des métiers de l'industrie et de l'aéronautique. Participez à une conférence immersive de 2h30 au sein de notre site...
URL;VALUE=URI:https://www.ellesbougent.com/agenda/calendrier/envole-toi-vers-ton-avenir-rencontre-les-marraines-de-industrie-chez-safran-seats-6421/
SEQUENCE:0
END:VEVENT
END:VCALENDAR
