BEGIN:VCALENDAR
METHOD:PUBLISH
VERSION:2.0
CALSCALE:GREGORIAN
BEGIN:VTIMEZONE
TZID:Europe/Paris
BEGIN:DAYLIGHT
TZOFFSETFROM:+0100
RRULE:FREQ=YEARLY;BYMONTH=3;BYDAY=-1SU
DTSTART:19810329T020000
TZNAME:UTC+2
TZOFFSETTO:+0200
END:DAYLIGHT
BEGIN:STANDARD
TZOFFSETFROM:+0200
RRULE:FREQ=YEARLY;BYMONTH=10;BYDAY=-1SU
DTSTART:19961027T030000
TZNAME:UTC+1
TZOFFSETTO:+0100
END:STANDARD
END:VTIMEZONE
BEGIN:VEVENT
UID:4395
DTSTART;TZID=Europe/Paris:20240308T090000
DTEND;TZID=Europe/Paris:20240308T170000
DTSTAMP;TZID=Europe/Paris:20260423T201628
LOCATION:Krakow
SUMMARY:Empower Your Future: join Plastic Omnium’s Equity Week - network\, learn\, and shape your career path!
DESCRIPTION:We cordially invite high school girls and students for a meeting with Plastic Omnium, a global pioneer in delivering innovative mobility solutions. During the meeting :  You will discover how to apply the knowledge in a practical setting, You will have the...
URL;VALUE=URI:https://www.ellesbougent.com/agenda/calendrier/empower-your-future-join-plastic-omnium-s-equity-week-network-learn-and-shape-your-career-path-4395/
SEQUENCE:0
END:VEVENT
END:VCALENDAR
