BEGIN:VCALENDAR
METHOD:PUBLISH
VERSION:2.0
CALSCALE:GREGORIAN
BEGIN:VTIMEZONE
TZID:Europe/Paris
BEGIN:DAYLIGHT
TZOFFSETFROM:+0100
RRULE:FREQ=YEARLY;BYMONTH=3;BYDAY=-1SU
DTSTART:19810329T020000
TZNAME:UTC+2
TZOFFSETTO:+0200
END:DAYLIGHT
BEGIN:STANDARD
TZOFFSETFROM:+0200
RRULE:FREQ=YEARLY;BYMONTH=10;BYDAY=-1SU
DTSTART:19961027T030000
TZNAME:UTC+1
TZOFFSETTO:+0100
END:STANDARD
END:VTIMEZONE
BEGIN:VEVENT
UID:6350
DTSTART;TZID=Europe/Paris:20251118T133000
DTEND;TZID=Europe/Paris:20251118T170000
DTSTAMP;TZID=Europe/Paris:20260424T131045
LOCATION:ROCHEFORT
SUMMARY:Elles volent !
DESCRIPTION:Embarquez avec Airbus Atlantic Rochefort pour une découverte des métiers de l'industrie aéronautique ! Les marraines vous accueilleront à 13h30 autour d'une boisson de bienvenue, avant de découvrir les lignes de production. Le secteur Cabine avec les...
URL;VALUE=URI:https://www.ellesbougent.com/agenda/calendrier/elles-volent-6350/
SEQUENCE:0
END:VEVENT
END:VCALENDAR
