BEGIN:VCALENDAR
METHOD:PUBLISH
VERSION:2.0
CALSCALE:GREGORIAN
BEGIN:VTIMEZONE
TZID:Europe/Paris
BEGIN:DAYLIGHT
TZOFFSETFROM:+0100
RRULE:FREQ=YEARLY;BYMONTH=3;BYDAY=-1SU
DTSTART:19810329T020000
TZNAME:UTC+2
TZOFFSETTO:+0200
END:DAYLIGHT
BEGIN:STANDARD
TZOFFSETFROM:+0200
RRULE:FREQ=YEARLY;BYMONTH=10;BYDAY=-1SU
DTSTART:19961027T030000
TZNAME:UTC+1
TZOFFSETTO:+0100
END:STANDARD
END:VTIMEZONE
BEGIN:VEVENT
UID:6422
DTSTART;TZID=Europe/Paris:20251118T130000
DTEND;TZID=Europe/Paris:20251118T173000
DTSTAMP;TZID=Europe/Paris:20260424T132255
LOCATION:Versailles
SUMMARY:Elles bougent dans le BTP ! 4ème édition
DESCRIPTION:Dans le cadre de la Semaine de l'industrie 2024, Léon Grosse et Elles bougent organisent la troisième édition de la journée "Elles bougent dans le BTP" ! Cette journée s'inscrit dans la volonté d'Elles bougent et de ses partenaires :  D'informer sur la...
URL;VALUE=URI:https://www.ellesbougent.com/agenda/calendrier/elles-bougent-dans-le-btp-4eme-edition-6422/
SEQUENCE:0
END:VEVENT
END:VCALENDAR
