BEGIN:VCALENDAR
METHOD:PUBLISH
VERSION:2.0
CALSCALE:GREGORIAN
BEGIN:VTIMEZONE
TZID:Europe/Paris
BEGIN:DAYLIGHT
TZOFFSETFROM:+0100
RRULE:FREQ=YEARLY;BYMONTH=3;BYDAY=-1SU
DTSTART:19810329T020000
TZNAME:UTC+2
TZOFFSETTO:+0200
END:DAYLIGHT
BEGIN:STANDARD
TZOFFSETFROM:+0200
RRULE:FREQ=YEARLY;BYMONTH=10;BYDAY=-1SU
DTSTART:19961027T030000
TZNAME:UTC+1
TZOFFSETTO:+0100
END:STANDARD
END:VTIMEZONE
BEGIN:VEVENT
UID:6393
DTSTART;TZID=Europe/Paris:20251117T090000
DTEND;TZID=Europe/Paris:20251117T133000
DTSTAMP;TZID=Europe/Paris:20260424T133719
LOCATION:Colombes
SUMMARY:Elles bougent avec Safran Transmission Systems : découvrir\, s’inspirer\, oser l’industrie
DESCRIPTION:Programme – Lundi 17 novembre 2025 (9h00 – 13h30)   9h00 – 9h30 : Accueil des participantes, installation en salle et présentation de la journée   9h30 – 10h15 : Présentation de nos marraines Elles bougent et introduction générale à Safran...
URL;VALUE=URI:https://www.ellesbougent.com/agenda/calendrier/elles-bougent-avec-safran-transmission-systems-decouvrir-s-inspirer-oser-industrie-6393/
SEQUENCE:0
END:VEVENT
END:VCALENDAR
