BEGIN:VCALENDAR
METHOD:PUBLISH
VERSION:2.0
CALSCALE:GREGORIAN
BEGIN:VTIMEZONE
TZID:Europe/Paris
BEGIN:DAYLIGHT
TZOFFSETFROM:+0100
RRULE:FREQ=YEARLY;BYMONTH=3;BYDAY=-1SU
DTSTART:19810329T020000
TZNAME:UTC+2
TZOFFSETTO:+0200
END:DAYLIGHT
BEGIN:STANDARD
TZOFFSETFROM:+0200
RRULE:FREQ=YEARLY;BYMONTH=10;BYDAY=-1SU
DTSTART:19961027T030000
TZNAME:UTC+1
TZOFFSETTO:+0100
END:STANDARD
END:VTIMEZONE
BEGIN:VEVENT
UID:6427
DTSTART;TZID=Europe/Paris:20251117T130000
DTEND;TZID=Europe/Paris:20251117T163000
DTSTAMP;TZID=Europe/Paris:20260424T133013
LOCATION:Colombier-Saugnieu
SUMMARY:Elles bougent avec Equans sur un chantier de construction d'un site industriel à proximité de Lyon !
DESCRIPTION:Venez échanger avec nos marraines mobilisées sur l'un de nos chantiers de construction d'un site industriel à proximité de Lyon ! Nous vous proposons de vous accueillir le lundi 17 novembre apres-midi sur notre chantier. Au programme :  Un temps...
URL;VALUE=URI:https://www.ellesbougent.com/agenda/calendrier/elles-bougent-avec-equans-sur-un-chantier-de-construction-un-site-industriel-a-proximite-de-lyon-6427/
SEQUENCE:0
END:VEVENT
END:VCALENDAR
