BEGIN:VCALENDAR
METHOD:PUBLISH
VERSION:2.0
CALSCALE:GREGORIAN
BEGIN:VTIMEZONE
TZID:Europe/Paris
BEGIN:DAYLIGHT
TZOFFSETFROM:+0100
RRULE:FREQ=YEARLY;BYMONTH=3;BYDAY=-1SU
DTSTART:19810329T020000
TZNAME:UTC+2
TZOFFSETTO:+0200
END:DAYLIGHT
BEGIN:STANDARD
TZOFFSETFROM:+0200
RRULE:FREQ=YEARLY;BYMONTH=10;BYDAY=-1SU
DTSTART:19961027T030000
TZNAME:UTC+1
TZOFFSETTO:+0100
END:STANDARD
END:VTIMEZONE
BEGIN:VEVENT
UID:3861
DTSTART;TZID=Europe/Paris:20231130T143000
DTEND;TZID=Europe/Paris:20231130T170000
DTSTAMP;TZID=Europe/Paris:20260420T104202
LOCATION:Carquefou
SUMMARY:L'école d'ingénieurs ISEN ouvre ses portes : venez découvrir le métier d'ingénieure !
DESCRIPTION:L'après-midi commencera par une rapide présentation de l'école et une sensibilisation sur l'égalité et la place des femmes en écoles d'ingénieurs. · Table ronde « Qu'est-ce qu'une ingénieurE ? » Des ingénieures, enseignantes-chercheuses et...
URL;VALUE=URI:https://www.ellesbougent.com/agenda/calendrier/ecole-ingenieurs-isen-ouvre-ses-portes-venez-decouvrir-le-metier-ingenieure-3861/
SEQUENCE:0
END:VEVENT
END:VCALENDAR
