BEGIN:VCALENDAR
METHOD:PUBLISH
VERSION:2.0
CALSCALE:GREGORIAN
BEGIN:VTIMEZONE
TZID:Europe/Paris
BEGIN:DAYLIGHT
TZOFFSETFROM:+0100
RRULE:FREQ=YEARLY;BYMONTH=3;BYDAY=-1SU
DTSTART:19810329T020000
TZNAME:UTC+2
TZOFFSETTO:+0200
END:DAYLIGHT
BEGIN:STANDARD
TZOFFSETFROM:+0200
RRULE:FREQ=YEARLY;BYMONTH=10;BYDAY=-1SU
DTSTART:19961027T030000
TZNAME:UTC+1
TZOFFSETTO:+0100
END:STANDARD
END:VTIMEZONE
BEGIN:VEVENT
UID:6411
DTSTART;TZID=Europe/Paris:20251119T133000
DTEND;TZID=Europe/Paris:20251119T173000
DTSTAMP;TZID=Europe/Paris:20260424T131918
LOCATION:Colomiers
SUMMARY:Donnez des Elles à l’aéronautique !
DESCRIPTION:Dans le cadre de la Semaine de l'Industrie, Airbus Atlantic est heureux d'ouvrir ses portes le mercredi 19 novembre 2025, de 13h30 à 17h30, dans notre bâtiment Skypark ! Cette demi-journée sera pour vous l'occasion de découvrir, de façon concrète et...
URL;VALUE=URI:https://www.ellesbougent.com/agenda/calendrier/donnez-des-elles-a-aeronautique-6411/
SEQUENCE:0
END:VEVENT
END:VCALENDAR
