BEGIN:VCALENDAR
METHOD:PUBLISH
VERSION:2.0
CALSCALE:GREGORIAN
BEGIN:VTIMEZONE
TZID:Europe/Paris
BEGIN:DAYLIGHT
TZOFFSETFROM:+0100
RRULE:FREQ=YEARLY;BYMONTH=3;BYDAY=-1SU
DTSTART:19810329T020000
TZNAME:UTC+2
TZOFFSETTO:+0200
END:DAYLIGHT
BEGIN:STANDARD
TZOFFSETFROM:+0200
RRULE:FREQ=YEARLY;BYMONTH=10;BYDAY=-1SU
DTSTART:19961027T030000
TZNAME:UTC+1
TZOFFSETTO:+0100
END:STANDARD
END:VTIMEZONE
BEGIN:VEVENT
UID:6352
DTSTART;TZID=Europe/Paris:20251118T133000
DTEND;TZID=Europe/Paris:20251118T170000
DTSTAMP;TZID=Europe/Paris:20260424T131918
LOCATION:SALAUNES
SUMMARY:Donnez des Elles à l’aéronautique
DESCRIPTION:Donnez des Elles à l'aéronautique ! 13h30 - 14h : accueil des futures Elles de l'aéronautique, avec une présentation de l'associationet de l'entreprise. Pour faire connaissance, on brise la glace avec des témoignages de femmes 14h - 15h30 : venez...
URL;VALUE=URI:https://www.ellesbougent.com/agenda/calendrier/donnez-des-elles-a-aeronautique-6352/
SEQUENCE:0
END:VEVENT
END:VCALENDAR
