BEGIN:VCALENDAR
METHOD:PUBLISH
VERSION:2.0
CALSCALE:GREGORIAN
BEGIN:VTIMEZONE
TZID:Europe/Paris
BEGIN:DAYLIGHT
TZOFFSETFROM:+0100
RRULE:FREQ=YEARLY;BYMONTH=3;BYDAY=-1SU
DTSTART:19810329T020000
TZNAME:UTC+2
TZOFFSETTO:+0200
END:DAYLIGHT
BEGIN:STANDARD
TZOFFSETFROM:+0200
RRULE:FREQ=YEARLY;BYMONTH=10;BYDAY=-1SU
DTSTART:19961027T030000
TZNAME:UTC+1
TZOFFSETTO:+0100
END:STANDARD
END:VTIMEZONE
BEGIN:VEVENT
UID:6436
DTSTART;TZID=Europe/Paris:20251121T083000
DTEND;TZID=Europe/Paris:20251121T120000
DTSTAMP;TZID=Europe/Paris:20260424T133013
LOCATION:Bellerive-sur-Allier
SUMMARY:Découvrir les installations énergétiques d’un centre sportif de haut niveau en transition
DESCRIPTION:Dans le cadre de la semaine de l'industrie 2025, ENGIE Solutions et l'association Elles Bougent vous invitent à découvrir les installations énergétiques du CREPS de Vichy, centre d'excellence sportive et de formation.Le site est doté d'importantes utilités...
URL;VALUE=URI:https://www.ellesbougent.com/agenda/calendrier/decouvrir-les-installations-energetiques-un-centre-sportif-de-haut-niveau-en-transition-6436/
SEQUENCE:0
END:VEVENT
END:VCALENDAR
