BEGIN:VCALENDAR
METHOD:PUBLISH
VERSION:2.0
CALSCALE:GREGORIAN
BEGIN:VTIMEZONE
TZID:Europe/Paris
BEGIN:DAYLIGHT
TZOFFSETFROM:+0100
RRULE:FREQ=YEARLY;BYMONTH=3;BYDAY=-1SU
DTSTART:19810329T020000
TZNAME:UTC+2
TZOFFSETTO:+0200
END:DAYLIGHT
BEGIN:STANDARD
TZOFFSETFROM:+0200
RRULE:FREQ=YEARLY;BYMONTH=10;BYDAY=-1SU
DTSTART:19961027T030000
TZNAME:UTC+1
TZOFFSETTO:+0100
END:STANDARD
END:VTIMEZONE
BEGIN:VEVENT
UID:6105
DTSTART;TZID=Europe/Paris:20251118T130000
DTEND;TZID=Europe/Paris:20251118T160000
DTSTAMP;TZID=Europe/Paris:20260424T132254
LOCATION:MERIGNAC
SUMMARY:Découvrir les formations à l'ingénierie aéronautique
DESCRIPTION:Venez découvrir l'Institut evering, ses formations en ingénierie aéronautique de BAC+3 à BAC+5, ses infrastructures en bordure de l'aéroport de Bordeaux-Mérignac et échanger avec ses étudiants.es et ses enseignants.es : 13h-13h30 Accueil en amphi rose par...
URL;VALUE=URI:https://www.ellesbougent.com/agenda/calendrier/decouvrir-les-formations-a-ingenierie-aeronautique-6105/
SEQUENCE:0
END:VEVENT
END:VCALENDAR
