BEGIN:VCALENDAR
METHOD:PUBLISH
VERSION:2.0
CALSCALE:GREGORIAN
BEGIN:VTIMEZONE
TZID:Europe/Paris
BEGIN:DAYLIGHT
TZOFFSETFROM:+0100
RRULE:FREQ=YEARLY;BYMONTH=3;BYDAY=-1SU
DTSTART:19810329T020000
TZNAME:UTC+2
TZOFFSETTO:+0200
END:DAYLIGHT
BEGIN:STANDARD
TZOFFSETFROM:+0200
RRULE:FREQ=YEARLY;BYMONTH=10;BYDAY=-1SU
DTSTART:19961027T030000
TZNAME:UTC+1
TZOFFSETTO:+0100
END:STANDARD
END:VTIMEZONE
BEGIN:VEVENT
UID:6020
DTSTART;TZID=Europe/Paris:20251117T133000
DTEND;TZID=Europe/Paris:20251117T163000
DTSTAMP;TZID=Europe/Paris:20260424T131540
LOCATION:Malaunay
SUMMARY:Découvrir la mobilité de demain
DESCRIPTION:Le Groupe Legrand a pour raison d'être d'améliorer les vies en transformant les espaces où les gens vivent, travaillent et se rencontrent, avec des infrastructures électriques et numériques et des solutions connectées qui sont simples, innovantes et durables....
URL;VALUE=URI:https://www.ellesbougent.com/agenda/calendrier/decouvrir-la-mobilite-de-demain-6020/
SEQUENCE:0
END:VEVENT
END:VCALENDAR
