BEGIN:VCALENDAR
METHOD:PUBLISH
VERSION:2.0
CALSCALE:GREGORIAN
BEGIN:VTIMEZONE
TZID:Europe/Paris
BEGIN:DAYLIGHT
TZOFFSETFROM:+0100
RRULE:FREQ=YEARLY;BYMONTH=3;BYDAY=-1SU
DTSTART:19810329T020000
TZNAME:UTC+2
TZOFFSETTO:+0200
END:DAYLIGHT
BEGIN:STANDARD
TZOFFSETFROM:+0200
RRULE:FREQ=YEARLY;BYMONTH=10;BYDAY=-1SU
DTSTART:19961027T030000
TZNAME:UTC+1
TZOFFSETTO:+0100
END:STANDARD
END:VTIMEZONE
BEGIN:VEVENT
UID:6028
DTSTART;TZID=Europe/Paris:20251121T090000
DTEND;TZID=Europe/Paris:20251121T173000
DTSTAMP;TZID=Europe/Paris:20260424T133600
LOCATION:GUYANCOURT
SUMMARY:Découvrez les secrets des coulisses du Design jusqu'à la fabrication des prototypes - Renault Group Technocentre
DESCRIPTION:Une journée complète au coeur du grand Technocentre Renault à Guyancourt !  La Direction du Design et la Direction des Prototypes &amp; Qualité vous emmèneront vivre l'expérience de leurs métiers industriels. Vous aurez la chance de pouvoir être...
URL;VALUE=URI:https://www.ellesbougent.com/agenda/calendrier/decouvrez-les-secrets-des-coulisses-du-design-jusqu-a-la-fabrication-des-prototypes-renault-group-technocentre-6028/
SEQUENCE:0
END:VEVENT
END:VCALENDAR
