BEGIN:VCALENDAR
METHOD:PUBLISH
VERSION:2.0
CALSCALE:GREGORIAN
BEGIN:VTIMEZONE
TZID:Europe/Paris
BEGIN:DAYLIGHT
TZOFFSETFROM:+0100
RRULE:FREQ=YEARLY;BYMONTH=3;BYDAY=-1SU
DTSTART:19810329T020000
TZNAME:UTC+2
TZOFFSETTO:+0200
END:DAYLIGHT
BEGIN:STANDARD
TZOFFSETFROM:+0200
RRULE:FREQ=YEARLY;BYMONTH=10;BYDAY=-1SU
DTSTART:19961027T030000
TZNAME:UTC+1
TZOFFSETTO:+0100
END:STANDARD
END:VTIMEZONE
BEGIN:VEVENT
UID:6441
DTSTART;TZID=Europe/Paris:20251120T090000
DTEND;TZID=Europe/Paris:20251120T123000
DTSTAMP;TZID=Europe/Paris:20260424T131031
LOCATION:SAINT CLOUD
SUMMARY:Découvrez les métiers de l'aéro chez Dassault Aviation Saint Cloud !
DESCRIPTION:Découvrez comment sont conçus les Rafale et les Falcon, à quoi ils servent, et échangez avec des professionnelles de l'aéronautique. Des métiers très variés sont possibles, dans un environnement accueillant pour toutes et tous !
URL;VALUE=URI:https://www.ellesbougent.com/agenda/calendrier/decouvrez-les-metiers-de-aero-chez-dassault-aviation-saint-cloud-6441/
SEQUENCE:0
END:VEVENT
END:VCALENDAR
