BEGIN:VCALENDAR
METHOD:PUBLISH
VERSION:2.0
CALSCALE:GREGORIAN
BEGIN:VTIMEZONE
TZID:Europe/Paris
BEGIN:DAYLIGHT
TZOFFSETFROM:+0100
RRULE:FREQ=YEARLY;BYMONTH=3;BYDAY=-1SU
DTSTART:19810329T020000
TZNAME:UTC+2
TZOFFSETTO:+0200
END:DAYLIGHT
BEGIN:STANDARD
TZOFFSETFROM:+0200
RRULE:FREQ=YEARLY;BYMONTH=10;BYDAY=-1SU
DTSTART:19961027T030000
TZNAME:UTC+1
TZOFFSETTO:+0100
END:STANDARD
END:VTIMEZONE
BEGIN:VEVENT
UID:6438
DTSTART;TZID=Europe/Paris:20251117T140000
DTEND;TZID=Europe/Paris:20251117T180000
DTSTAMP;TZID=Europe/Paris:20260424T132844
LOCATION:MERIGNAC
SUMMARY:Découvrez les métiers de l'aéro chez Dassault Aviation Mérignac ! #1
DESCRIPTION:Découvrez comment sont produits les Rafale et les Falcon et échangez avec des professionnelles de l'aéronautique. Des métiers variés sont possibles, dans un environnement accueillant pour toutes et tous.
URL;VALUE=URI:https://www.ellesbougent.com/agenda/calendrier/decouvrez-les-metiers-de-aero-chez-dassault-aviation-merignac-1-6438/
SEQUENCE:0
END:VEVENT
END:VCALENDAR
