BEGIN:VCALENDAR
METHOD:PUBLISH
VERSION:2.0
CALSCALE:GREGORIAN
BEGIN:VTIMEZONE
TZID:Europe/Paris
BEGIN:DAYLIGHT
TZOFFSETFROM:+0100
RRULE:FREQ=YEARLY;BYMONTH=3;BYDAY=-1SU
DTSTART:19810329T020000
TZNAME:UTC+2
TZOFFSETTO:+0200
END:DAYLIGHT
BEGIN:STANDARD
TZOFFSETFROM:+0200
RRULE:FREQ=YEARLY;BYMONTH=10;BYDAY=-1SU
DTSTART:19961027T030000
TZNAME:UTC+1
TZOFFSETTO:+0100
END:STANDARD
END:VTIMEZONE
BEGIN:VEVENT
UID:6666
DTSTART;TZID=Europe/Paris:20251120T090000
DTEND;TZID=Europe/Paris:20251120T120000
DTSTAMP;TZID=Europe/Paris:20260424T132636
LOCATION:Anglet
SUMMARY:Découvrez les métiers de l'aéro chez Dassault Aviation Anglet !
DESCRIPTION:Visite des activités de production de pièces Rafale et Falcon et d'assemblage du fuselage des avions et échanges en tables rondes avec nos marraines travaillant soit en production soit en ingénierie.
URL;VALUE=URI:https://www.ellesbougent.com/agenda/calendrier/decouvrez-les-metiers-de-aero-chez-dassault-aviation-anglet-6666/
SEQUENCE:0
END:VEVENT
END:VCALENDAR
