BEGIN:VCALENDAR
METHOD:PUBLISH
VERSION:2.0
CALSCALE:GREGORIAN
BEGIN:VTIMEZONE
TZID:Europe/Paris
BEGIN:DAYLIGHT
TZOFFSETFROM:+0100
RRULE:FREQ=YEARLY;BYMONTH=3;BYDAY=-1SU
DTSTART:19810329T020000
TZNAME:UTC+2
TZOFFSETTO:+0200
END:DAYLIGHT
BEGIN:STANDARD
TZOFFSETFROM:+0200
RRULE:FREQ=YEARLY;BYMONTH=10;BYDAY=-1SU
DTSTART:19961027T030000
TZNAME:UTC+1
TZOFFSETTO:+0100
END:STANDARD
END:VTIMEZONE
BEGIN:VEVENT
UID:6389
DTSTART;TZID=Europe/Paris:20251117T133000
DTEND;TZID=Europe/Paris:20251117T173000
DTSTAMP;TZID=Europe/Paris:20260424T132614
LOCATION:Lagord
SUMMARY:Découvrez les coulisses d’une école d’ingénieurs
DESCRIPTION:Visite de l'école avec tous ses ateliers (labo technique/plateforme de recherche/..) et échanges avec des marraines/étudiantes Pour toute demande d'inscription merci de contacter la délégation régionale : poitou-charentes@ellesbougent.com
URL;VALUE=URI:https://www.ellesbougent.com/agenda/calendrier/decouvrez-les-coulisses-une-ecole-ingenieurs-6389/
SEQUENCE:0
END:VEVENT
END:VCALENDAR
