BEGIN:VCALENDAR
METHOD:PUBLISH
VERSION:2.0
CALSCALE:GREGORIAN
BEGIN:VTIMEZONE
TZID:Europe/Paris
BEGIN:DAYLIGHT
TZOFFSETFROM:+0100
RRULE:FREQ=YEARLY;BYMONTH=3;BYDAY=-1SU
DTSTART:19810329T020000
TZNAME:UTC+2
TZOFFSETTO:+0200
END:DAYLIGHT
BEGIN:STANDARD
TZOFFSETFROM:+0200
RRULE:FREQ=YEARLY;BYMONTH=10;BYDAY=-1SU
DTSTART:19961027T030000
TZNAME:UTC+1
TZOFFSETTO:+0100
END:STANDARD
END:VTIMEZONE
BEGIN:VEVENT
UID:2808
DTSTART;TZID=Europe/Paris:20221004T090000
DTEND;TZID=Europe/Paris:20221004T110000
DTSTAMP;TZID=Europe/Paris:20260420T104055
LOCATION:Plateforme d'enfouissement ISDND - Ecopole des 3 frères Chemin Drozin . 97441 SAINTE-SUZANNE
SUMMARY:Découvrez le fonctionnement d’un site d’enfouissement de déchets non dangereux
DESCRIPTION:Visite du centre d'enfouissement. Découvrez le traitement de ces déchets et de leur transformation en électricité. Chez Suez la sécurité de ses collaborateurs et de ses visiteurs est primordiale. C'est pourquoi pour s'inscrire sur nos différentes visites, merci...
URL;VALUE=URI:https://www.ellesbougent.com/agenda/calendrier/decouvrez-le-fonctionnement-un-site-enfouissement-de-dechets-non-dangereux-2808/
SEQUENCE:0
END:VEVENT
END:VCALENDAR
