BEGIN:VCALENDAR
METHOD:PUBLISH
VERSION:2.0
CALSCALE:GREGORIAN
BEGIN:VTIMEZONE
TZID:Europe/Paris
BEGIN:DAYLIGHT
TZOFFSETFROM:+0100
RRULE:FREQ=YEARLY;BYMONTH=3;BYDAY=-1SU
DTSTART:19810329T020000
TZNAME:UTC+2
TZOFFSETTO:+0200
END:DAYLIGHT
BEGIN:STANDARD
TZOFFSETFROM:+0200
RRULE:FREQ=YEARLY;BYMONTH=10;BYDAY=-1SU
DTSTART:19961027T030000
TZNAME:UTC+1
TZOFFSETTO:+0100
END:STANDARD
END:VTIMEZONE
BEGIN:VEVENT
UID:6304
DTSTART;TZID=Europe/Paris:20251120T134500
DTEND;TZID=Europe/Paris:20251120T173000
DTSTAMP;TZID=Europe/Paris:20260424T133750
LOCATION:Toulouse
SUMMARY:Découvrez la diversité des métiers du numérique et leur application dans le monde aéronautique
DESCRIPTION:Airbus est un leader mondial de l'aéronautique, de l'espace et des services associés. Nous vous proposons une demi journée exceptionnelle sur le site de Toulouse pour découvrir les différentes activités numériques qui font d'Airbus le pionnier d'une industrie...
URL;VALUE=URI:https://www.ellesbougent.com/agenda/calendrier/decouvrez-la-diversite-des-metiers-du-numerique-et-leur-application-dans-le-monde-aeronautique-6304/
SEQUENCE:0
END:VEVENT
END:VCALENDAR
