BEGIN:VCALENDAR
METHOD:PUBLISH
VERSION:2.0
CALSCALE:GREGORIAN
BEGIN:VTIMEZONE
TZID:Europe/Paris
BEGIN:DAYLIGHT
TZOFFSETFROM:+0100
RRULE:FREQ=YEARLY;BYMONTH=3;BYDAY=-1SU
DTSTART:19810329T020000
TZNAME:UTC+2
TZOFFSETTO:+0200
END:DAYLIGHT
BEGIN:STANDARD
TZOFFSETFROM:+0200
RRULE:FREQ=YEARLY;BYMONTH=10;BYDAY=-1SU
DTSTART:19961027T030000
TZNAME:UTC+1
TZOFFSETTO:+0100
END:STANDARD
END:VTIMEZONE
BEGIN:VEVENT
UID:6271
DTSTART;TZID=Europe/Paris:20251119T080000
DTEND;TZID=Europe/Paris:20251119T163000
DTSTAMP;TZID=Europe/Paris:20260424T133205
LOCATION:Sainte-Geneviève-des-Bois
SUMMARY:Découvre Controreupe : la précision au service de l’aéronautique !
DESCRIPTION:Tu t'es déjà demandé comment on s'assure qu'un avion est fiable, sûr et parfaitement conçu ?Chez Controreupe, les expertes et experts du contrôle qualité utilisent des techniques de pointe pour garantir la sécurité de chaque pièce aéronautique. Grâce...
URL;VALUE=URI:https://www.ellesbougent.com/agenda/calendrier/decouvre-controreupe-la-precision-au-service-de-aeronautique-6271/
SEQUENCE:0
END:VEVENT
END:VCALENDAR
