BEGIN:VCALENDAR
METHOD:PUBLISH
VERSION:2.0
CALSCALE:GREGORIAN
BEGIN:VTIMEZONE
TZID:Europe/Paris
BEGIN:DAYLIGHT
TZOFFSETFROM:+0100
RRULE:FREQ=YEARLY;BYMONTH=3;BYDAY=-1SU
DTSTART:19810329T020000
TZNAME:UTC+2
TZOFFSETTO:+0200
END:DAYLIGHT
BEGIN:STANDARD
TZOFFSETFROM:+0200
RRULE:FREQ=YEARLY;BYMONTH=10;BYDAY=-1SU
DTSTART:19961027T030000
TZNAME:UTC+1
TZOFFSETTO:+0100
END:STANDARD
END:VTIMEZONE
BEGIN:VEVENT
UID:6004
DTSTART;TZID=Europe/Paris:20251118T140000
DTEND;TZID=Europe/Paris:20251118T170000
DTSTAMP;TZID=Europe/Paris:20260424T132137
LOCATION:SOCX
SUMMARY:Découverture d'une usine Coca-Cola au féminin!
DESCRIPTION:Venez découvrir une usine agro-alimentaire de fabrication de boissons non-alcoolisée : la plus grande usine Coca-Cola de France ! Après une présentation du groupe et de l'usine, vous découvrirez le parcours de plusieurs femmes de l'entreprise depuis...
URL;VALUE=URI:https://www.ellesbougent.com/agenda/calendrier/decouverture-une-usine-coca-cola-au-feminin-6004/
SEQUENCE:0
END:VEVENT
END:VCALENDAR
