BEGIN:VCALENDAR
METHOD:PUBLISH
VERSION:2.0
CALSCALE:GREGORIAN
BEGIN:VTIMEZONE
TZID:Europe/Paris
BEGIN:DAYLIGHT
TZOFFSETFROM:+0100
RRULE:FREQ=YEARLY;BYMONTH=3;BYDAY=-1SU
DTSTART:19810329T020000
TZNAME:UTC+2
TZOFFSETTO:+0200
END:DAYLIGHT
BEGIN:STANDARD
TZOFFSETFROM:+0200
RRULE:FREQ=YEARLY;BYMONTH=10;BYDAY=-1SU
DTSTART:19961027T030000
TZNAME:UTC+1
TZOFFSETTO:+0100
END:STANDARD
END:VTIMEZONE
BEGIN:VEVENT
UID:6409
DTSTART;TZID=Europe/Paris:20251117T100000
DTEND;TZID=Europe/Paris:20251117T120000
DTSTAMP;TZID=Europe/Paris:20260424T132448
LOCATION:Sainte Suzanne
SUMMARY:Découverte du métier de responsable de production en usine de traitement des déchets
DESCRIPTION:Bonjour à toutes, Je vous propose de découvrir une industrie de traitement des déchets ("poubelles grises") et d'échanger sur le métier d'ingénieur de production dans ce domaine, sur mon parcours, ce qui m'a amené là... Il est difficile de savoir vers quoi se...
URL;VALUE=URI:https://www.ellesbougent.com/agenda/calendrier/decouverte-du-metier-de-responsable-de-production-en-usine-de-traitement-des-dechets-6409/
SEQUENCE:0
END:VEVENT
END:VCALENDAR
