BEGIN:VCALENDAR
METHOD:PUBLISH
VERSION:2.0
CALSCALE:GREGORIAN
BEGIN:VTIMEZONE
TZID:Europe/Paris
BEGIN:DAYLIGHT
TZOFFSETFROM:+0100
RRULE:FREQ=YEARLY;BYMONTH=3;BYDAY=-1SU
DTSTART:19810329T020000
TZNAME:UTC+2
TZOFFSETTO:+0200
END:DAYLIGHT
BEGIN:STANDARD
TZOFFSETFROM:+0200
RRULE:FREQ=YEARLY;BYMONTH=10;BYDAY=-1SU
DTSTART:19961027T030000
TZNAME:UTC+1
TZOFFSETTO:+0100
END:STANDARD
END:VTIMEZONE
BEGIN:VEVENT
UID:6449
DTSTART;TZID=Europe/Paris:20251118T090000
DTEND;TZID=Europe/Paris:20251118T163000
DTSTAMP;TZID=Europe/Paris:20260424T133157
LOCATION:Isbergues
SUMMARY:Découverte des métiers techniques et scientifiques d'une industrie métallurgique
DESCRIPTION:🔎 Découvrez les coulisses de l'industrie métallurgique à Isbergues ! Le mardi 18 novembre, la plateforme industrielle d'Isbergues ouvre ses portes pour une journée exceptionnelle. De 9h à 16h30, partez à la découverte de nos installations : ligne...
URL;VALUE=URI:https://www.ellesbougent.com/agenda/calendrier/decouverte-des-metiers-techniques-et-scientifiques-une-industrie-metallurgique-6449/
SEQUENCE:0
END:VEVENT
END:VCALENDAR
