BEGIN:VCALENDAR
METHOD:PUBLISH
VERSION:2.0
CALSCALE:GREGORIAN
BEGIN:VTIMEZONE
TZID:Europe/Paris
BEGIN:DAYLIGHT
TZOFFSETFROM:+0100
RRULE:FREQ=YEARLY;BYMONTH=3;BYDAY=-1SU
DTSTART:19810329T020000
TZNAME:UTC+2
TZOFFSETTO:+0200
END:DAYLIGHT
BEGIN:STANDARD
TZOFFSETFROM:+0200
RRULE:FREQ=YEARLY;BYMONTH=10;BYDAY=-1SU
DTSTART:19961027T030000
TZNAME:UTC+1
TZOFFSETTO:+0100
END:STANDARD
END:VTIMEZONE
BEGIN:VEVENT
UID:6380
DTSTART;TZID=Europe/Paris:20251118T090000
DTEND;TZID=Europe/Paris:20251118T120000
DTSTAMP;TZID=Europe/Paris:20260424T131221
LOCATION:PAU
SUMMARY:Découverte des métiers techniques chez Enedis
DESCRIPTION:Missions Enedis :  Enedis est une entreprise publique française, gestionnaire du réseau de distribution d'électricité sur 95 % du territoire métropolitain. Devenue Entreprise à missions en 2023, sa raison d'être est la suivante : « Agir pour un...
URL;VALUE=URI:https://www.ellesbougent.com/agenda/calendrier/decouverte-des-metiers-techniques-chez-enedis-6380/
SEQUENCE:0
END:VEVENT
END:VCALENDAR
