BEGIN:VCALENDAR
METHOD:PUBLISH
VERSION:2.0
CALSCALE:GREGORIAN
BEGIN:VTIMEZONE
TZID:Europe/Paris
BEGIN:DAYLIGHT
TZOFFSETFROM:+0100
RRULE:FREQ=YEARLY;BYMONTH=3;BYDAY=-1SU
DTSTART:19810329T020000
TZNAME:UTC+2
TZOFFSETTO:+0200
END:DAYLIGHT
BEGIN:STANDARD
TZOFFSETFROM:+0200
RRULE:FREQ=YEARLY;BYMONTH=10;BYDAY=-1SU
DTSTART:19961027T030000
TZNAME:UTC+1
TZOFFSETTO:+0100
END:STANDARD
END:VTIMEZONE
BEGIN:VEVENT
UID:6230
DTSTART;TZID=Europe/Paris:20251125T133000
DTEND;TZID=Europe/Paris:20251125T160000
DTSTAMP;TZID=Europe/Paris:20260424T131435
LOCATION:CATTENOM
SUMMARY:Découverte des métiers du nucléaire
DESCRIPTION:Découvrez la centrale nucléaire de Cattenom lors de la Semaine de l'Industrie ! Une visite exclusive des installations, pour plonger au cœur de la production d'énergie nucléaire et rencontrer des femmes inspirantes – ingénieures, techniciennes, expertes en sûreté (marraines Elles bougent) – qui partageront leur parcours et leur passion. Elles vous montreront que les métiers de l'industrie et de l'énergie sont ouverts à toutes et à tous, et qu'ils offrent de réelles perspectives d'avenir.
URL;VALUE=URI:https://www.ellesbougent.com/agenda/calendrier/decouverte-des-metiers-du-nucleaire-6230/
SEQUENCE:0
END:VEVENT
END:VCALENDAR
