BEGIN:VCALENDAR
METHOD:PUBLISH
VERSION:2.0
CALSCALE:GREGORIAN
BEGIN:VTIMEZONE
TZID:Europe/Paris
BEGIN:DAYLIGHT
TZOFFSETFROM:+0100
RRULE:FREQ=YEARLY;BYMONTH=3;BYDAY=-1SU
DTSTART:19810329T020000
TZNAME:UTC+2
TZOFFSETTO:+0200
END:DAYLIGHT
BEGIN:STANDARD
TZOFFSETFROM:+0200
RRULE:FREQ=YEARLY;BYMONTH=10;BYDAY=-1SU
DTSTART:19961027T030000
TZNAME:UTC+1
TZOFFSETTO:+0100
END:STANDARD
END:VTIMEZONE
BEGIN:VEVENT
UID:5998
DTSTART;TZID=Europe/Paris:20251118T090000
DTEND;TZID=Europe/Paris:20251118T143000
DTSTAMP;TZID=Europe/Paris:20260424T131605
LOCATION:Verquin
SUMMARY:Découverte des métiers du groupe Eiffage
DESCRIPTION:Eiffage Energie Systèmes Transport et Distribution Notre activité Lignes HTB au sein de la filiale EES T&amp;D est en forte croissance. Cette activité regroupée au sein du département Lignes réalise près de 50 M€ de CA et compte plus de 260 collaborateurs...
URL;VALUE=URI:https://www.ellesbougent.com/agenda/calendrier/decouverte-des-metiers-du-groupe-eiffage-5998/
SEQUENCE:0
END:VEVENT
END:VCALENDAR
