BEGIN:VCALENDAR
METHOD:PUBLISH
VERSION:2.0
CALSCALE:GREGORIAN
BEGIN:VTIMEZONE
TZID:Europe/Paris
BEGIN:DAYLIGHT
TZOFFSETFROM:+0100
RRULE:FREQ=YEARLY;BYMONTH=3;BYDAY=-1SU
DTSTART:19810329T020000
TZNAME:UTC+2
TZOFFSETTO:+0200
END:DAYLIGHT
BEGIN:STANDARD
TZOFFSETFROM:+0200
RRULE:FREQ=YEARLY;BYMONTH=10;BYDAY=-1SU
DTSTART:19961027T030000
TZNAME:UTC+1
TZOFFSETTO:+0100
END:STANDARD
END:VTIMEZONE
BEGIN:VEVENT
UID:6039
DTSTART;TZID=Europe/Paris:20251118T133000
DTEND;TZID=Europe/Paris:20251118T153000
DTSTAMP;TZID=Europe/Paris:20260424T132037
LOCATION:RETHEL
SUMMARY:Découverte des métiers de la Conduite des Réseaux HTA et Postes Sources
DESCRIPTION:Enedis, le service public de la transition écologique, pilote le plus grand réseau de distribution d'électricité d'Europe au service de la société et des territoires. En tant qu'entreprise à mission engagée dans la transition écologique, nous construisons la...
URL;VALUE=URI:https://www.ellesbougent.com/agenda/calendrier/decouverte-des-metiers-de-la-conduite-des-reseaux-hta-et-postes-sources-6039/
SEQUENCE:0
END:VEVENT
END:VCALENDAR
