BEGIN:VCALENDAR
METHOD:PUBLISH
VERSION:2.0
CALSCALE:GREGORIAN
BEGIN:VTIMEZONE
TZID:Europe/Paris
BEGIN:DAYLIGHT
TZOFFSETFROM:+0100
RRULE:FREQ=YEARLY;BYMONTH=3;BYDAY=-1SU
DTSTART:19810329T020000
TZNAME:UTC+2
TZOFFSETTO:+0200
END:DAYLIGHT
BEGIN:STANDARD
TZOFFSETFROM:+0200
RRULE:FREQ=YEARLY;BYMONTH=10;BYDAY=-1SU
DTSTART:19961027T030000
TZNAME:UTC+1
TZOFFSETTO:+0100
END:STANDARD
END:VTIMEZONE
BEGIN:VEVENT
UID:6120
DTSTART;TZID=Europe/Paris:20251120T090000
DTEND;TZID=Europe/Paris:20251120T163000
DTSTAMP;TZID=Europe/Paris:20260424T132844
LOCATION:Wasquehal
SUMMARY:Découverte des métiers de IT chez AXA France
DESCRIPTION:OBJECTIFS   INFORMER les jeunes filles de la grande variété des métiers techniques et scientifiques et des besoins en recrutement VALORISER la place des femmes dans le domaine de l'IT et transmettre la passion des métiers … DECONSTRUIRE les idées reçues,...
URL;VALUE=URI:https://www.ellesbougent.com/agenda/calendrier/decouverte-des-metiers-de-it-chez-axa-france-6120/
SEQUENCE:0
END:VEVENT
END:VCALENDAR
