BEGIN:VCALENDAR
METHOD:PUBLISH
VERSION:2.0
CALSCALE:GREGORIAN
BEGIN:VTIMEZONE
TZID:Europe/Paris
BEGIN:DAYLIGHT
TZOFFSETFROM:+0100
RRULE:FREQ=YEARLY;BYMONTH=3;BYDAY=-1SU
DTSTART:19810329T020000
TZNAME:UTC+2
TZOFFSETTO:+0200
END:DAYLIGHT
BEGIN:STANDARD
TZOFFSETFROM:+0200
RRULE:FREQ=YEARLY;BYMONTH=10;BYDAY=-1SU
DTSTART:19961027T030000
TZNAME:UTC+1
TZOFFSETTO:+0100
END:STANDARD
END:VTIMEZONE
BEGIN:VEVENT
UID:5991
DTSTART;TZID=Europe/Paris:20251117T090000
DTEND;TZID=Europe/Paris:20251117T120000
DTSTAMP;TZID=Europe/Paris:20260424T132440
LOCATION:Paris
SUMMARY:Découverte des métiers de l'ingénieure chez Phimeca Paris
DESCRIPTION:Phimeca ouvre ses portes à des collégiennes/lycéennes pour leur faire découvrir les métiers d'ingénieurs en mécanique et statistique. Le matin, dès leur arrivée, les collégiennes/lycéennes seront accueillies au sein des locaux parisiens de Phimeca. Après...
URL;VALUE=URI:https://www.ellesbougent.com/agenda/calendrier/decouverte-des-metiers-de-ingenieure-chez-phimeca-paris-5991/
SEQUENCE:0
END:VEVENT
END:VCALENDAR
