BEGIN:VCALENDAR
METHOD:PUBLISH
VERSION:2.0
CALSCALE:GREGORIAN
BEGIN:VTIMEZONE
TZID:Europe/Paris
BEGIN:DAYLIGHT
TZOFFSETFROM:+0100
RRULE:FREQ=YEARLY;BYMONTH=3;BYDAY=-1SU
DTSTART:19810329T020000
TZNAME:UTC+2
TZOFFSETTO:+0200
END:DAYLIGHT
BEGIN:STANDARD
TZOFFSETFROM:+0200
RRULE:FREQ=YEARLY;BYMONTH=10;BYDAY=-1SU
DTSTART:19961027T030000
TZNAME:UTC+1
TZOFFSETTO:+0100
END:STANDARD
END:VTIMEZONE
BEGIN:VEVENT
UID:6051
DTSTART;TZID=Europe/Paris:20251118T093000
DTEND;TZID=Europe/Paris:20251118T160000
DTSTAMP;TZID=Europe/Paris:20260424T133551
LOCATION:PARIS 10
SUMMARY:Découverte des métiers de l'ingénierie appliquée au développement de drones
DESCRIPTION:Plongez dans l'univers passionnant de l'ingénierie et du drone professionnel !Au fil de cette journée immersive, vous découvrirez la richesse des métiers techniques chez Parrot à travers des ateliers ludiques et concrets. Au programme :  une initiation...
URL;VALUE=URI:https://www.ellesbougent.com/agenda/calendrier/decouverte-des-metiers-de-ingenierie-appliquee-au-developpement-de-drones-6051/
SEQUENCE:0
END:VEVENT
END:VCALENDAR
