BEGIN:VCALENDAR
METHOD:PUBLISH
VERSION:2.0
CALSCALE:GREGORIAN
BEGIN:VTIMEZONE
TZID:Europe/Paris
BEGIN:DAYLIGHT
TZOFFSETFROM:+0100
RRULE:FREQ=YEARLY;BYMONTH=3;BYDAY=-1SU
DTSTART:19810329T020000
TZNAME:UTC+2
TZOFFSETTO:+0200
END:DAYLIGHT
BEGIN:STANDARD
TZOFFSETFROM:+0200
RRULE:FREQ=YEARLY;BYMONTH=10;BYDAY=-1SU
DTSTART:19961027T030000
TZNAME:UTC+1
TZOFFSETTO:+0100
END:STANDARD
END:VTIMEZONE
BEGIN:VEVENT
UID:5988
DTSTART;TZID=Europe/Paris:20251120T140000
DTEND;TZID=Europe/Paris:20251120T163000
DTSTAMP;TZID=Europe/Paris:20260424T131728
LOCATION:Saint-Nazaire
SUMMARY:Découverte des métiers de l'industrie navale !
DESCRIPTION:Venez découvrir les métiers de l'industrie navale et offshore autour d'un temps convivial en échangeant directement avec nos salariées.  14h - Accueil 14h30 - Échanges en salle "Devine mon métier"  Par groupe, les jeunes filles devront deviner le métier de nos...
URL;VALUE=URI:https://www.ellesbougent.com/agenda/calendrier/decouverte-des-metiers-de-industrie-navale-5988/
SEQUENCE:0
END:VEVENT
END:VCALENDAR
