BEGIN:VCALENDAR
METHOD:PUBLISH
VERSION:2.0
CALSCALE:GREGORIAN
BEGIN:VTIMEZONE
TZID:Europe/Paris
BEGIN:DAYLIGHT
TZOFFSETFROM:+0100
RRULE:FREQ=YEARLY;BYMONTH=3;BYDAY=-1SU
DTSTART:19810329T020000
TZNAME:UTC+2
TZOFFSETTO:+0200
END:DAYLIGHT
BEGIN:STANDARD
TZOFFSETFROM:+0200
RRULE:FREQ=YEARLY;BYMONTH=10;BYDAY=-1SU
DTSTART:19961027T030000
TZNAME:UTC+1
TZOFFSETTO:+0100
END:STANDARD
END:VTIMEZONE
BEGIN:VEVENT
UID:6224
DTSTART;TZID=Europe/Paris:20251119T090000
DTEND;TZID=Europe/Paris:20251119T120000
DTSTAMP;TZID=Europe/Paris:20260424T131728
LOCATION:BOUGUENAIS
SUMMARY:Découverte des formations et métiers de l'industrie
DESCRIPTION:Nous aurons le plaisir d'accueillir les jeunes femmes à compter de 09H00 sur notre site de Bouguenais dédié à la formation des métiers de l'industrie. Nous ferons ensuite une présentation institutionnelle de notre centre de formation en salle, puis nous...
URL;VALUE=URI:https://www.ellesbougent.com/agenda/calendrier/decouverte-des-formations-et-metiers-de-industrie-6224/
SEQUENCE:0
END:VEVENT
END:VCALENDAR
