BEGIN:VCALENDAR
METHOD:PUBLISH
VERSION:2.0
CALSCALE:GREGORIAN
BEGIN:VTIMEZONE
TZID:Europe/Paris
BEGIN:DAYLIGHT
TZOFFSETFROM:+0100
RRULE:FREQ=YEARLY;BYMONTH=3;BYDAY=-1SU
DTSTART:19810329T020000
TZNAME:UTC+2
TZOFFSETTO:+0200
END:DAYLIGHT
BEGIN:STANDARD
TZOFFSETFROM:+0200
RRULE:FREQ=YEARLY;BYMONTH=10;BYDAY=-1SU
DTSTART:19961027T030000
TZNAME:UTC+1
TZOFFSETTO:+0100
END:STANDARD
END:VTIMEZONE
BEGIN:VEVENT
UID:6423
DTSTART;TZID=Europe/Paris:20251121T090000
DTEND;TZID=Europe/Paris:20251121T130000
DTSTAMP;TZID=Europe/Paris:20260424T133005
LOCATION:CHESSY
SUMMARY:Découverte de la Centrale d'Energie et de la Station d'Epuration de Disneyland Paris
DESCRIPTION:Venez visitez notre Centrale d'Energie, notre Station d'Epuration et notre Laboratoire dans les coulisses de Disneyland et, ainsi découvrir deux installations au cœur de notre politique énergétique et environnementale accompagnés de nos marraines et relais Elles...
URL;VALUE=URI:https://www.ellesbougent.com/agenda/calendrier/decouverte-de-la-centrale-energie-et-de-la-station-epuration-de-disneyland-paris-6423/
SEQUENCE:0
END:VEVENT
END:VCALENDAR
