BEGIN:VCALENDAR
METHOD:PUBLISH
VERSION:2.0
CALSCALE:GREGORIAN
BEGIN:VTIMEZONE
TZID:Europe/Paris
BEGIN:DAYLIGHT
TZOFFSETFROM:+0100
RRULE:FREQ=YEARLY;BYMONTH=3;BYDAY=-1SU
DTSTART:19810329T020000
TZNAME:UTC+2
TZOFFSETTO:+0200
END:DAYLIGHT
BEGIN:STANDARD
TZOFFSETFROM:+0200
RRULE:FREQ=YEARLY;BYMONTH=10;BYDAY=-1SU
DTSTART:19961027T030000
TZNAME:UTC+1
TZOFFSETTO:+0100
END:STANDARD
END:VTIMEZONE
BEGIN:VEVENT
UID:6279
DTSTART;TZID=Europe/Paris:20251117T140000
DTEND;TZID=Europe/Paris:20251117T170000
DTSTAMP;TZID=Europe/Paris:20260424T131031
LOCATION:VILLEURBANNE
SUMMARY:Découverte de l’ingénierie et des technologies liées à la transition énergétique
DESCRIPTION:Ateliers proposés :  Jeux de rôles : revue d'un projet en équipe pluridisciplinaire Frise de l'ingénierie Présentation de l'entreprise Présentation du parcours des marraines Session Q&amp;A 
URL;VALUE=URI:https://www.ellesbougent.com/agenda/calendrier/decouverte-de-ingenierie-et-des-technologies-liees-a-la-transition-energetique-6279/
SEQUENCE:0
END:VEVENT
END:VCALENDAR
