BEGIN:VCALENDAR
METHOD:PUBLISH
VERSION:2.0
CALSCALE:GREGORIAN
BEGIN:VTIMEZONE
TZID:Europe/Paris
BEGIN:DAYLIGHT
TZOFFSETFROM:+0100
RRULE:FREQ=YEARLY;BYMONTH=3;BYDAY=-1SU
DTSTART:19810329T020000
TZNAME:UTC+2
TZOFFSETTO:+0200
END:DAYLIGHT
BEGIN:STANDARD
TZOFFSETFROM:+0200
RRULE:FREQ=YEARLY;BYMONTH=10;BYDAY=-1SU
DTSTART:19961027T030000
TZNAME:UTC+1
TZOFFSETTO:+0100
END:STANDARD
END:VTIMEZONE
BEGIN:VEVENT
UID:6364
DTSTART;TZID=Europe/Paris:20251121T140000
DTEND;TZID=Europe/Paris:20251121T160000
DTSTAMP;TZID=Europe/Paris:20260424T131308
LOCATION:St Doulchard
SUMMARY:Découverte de l'industrie chez Michelin
DESCRIPTION:Chères futures professionnelles, Nous avons le plaisir de vous inviter à une visite exceptionnelle de notre site Michelin à Saint-Doulchard, spécialisé dans la fabrication de pneumatiques d'avion. En tant que leader dans notre domaine et une usine en pleine...
URL;VALUE=URI:https://www.ellesbougent.com/agenda/calendrier/decouverte-de-industrie-chez-michelin-6364/
SEQUENCE:0
END:VEVENT
END:VCALENDAR
