BEGIN:VCALENDAR
METHOD:PUBLISH
VERSION:2.0
CALSCALE:GREGORIAN
BEGIN:VTIMEZONE
TZID:Europe/Paris
BEGIN:DAYLIGHT
TZOFFSETFROM:+0100
RRULE:FREQ=YEARLY;BYMONTH=3;BYDAY=-1SU
DTSTART:19810329T020000
TZNAME:UTC+2
TZOFFSETTO:+0200
END:DAYLIGHT
BEGIN:STANDARD
TZOFFSETFROM:+0200
RRULE:FREQ=YEARLY;BYMONTH=10;BYDAY=-1SU
DTSTART:19961027T030000
TZNAME:UTC+1
TZOFFSETTO:+0100
END:STANDARD
END:VTIMEZONE
BEGIN:VEVENT
UID:2941
DTSTART;TZID=Europe/Paris:20221124T093000
DTEND;TZID=Europe/Paris:20221124T143000
DTSTAMP;TZID=Europe/Paris:20260425T170528
LOCATION:Roubaix
SUMMARY:[Crédit Agricole] Découverte des métiers DATA/IT/Finance
DESCRIPTION:Rendre accessible les métiers Data / IT / Finance du milieu Bancaire - Crédit à la consommation.Présentation des métiers par les marraines et les filières de formation.
URL;VALUE=URI:https://www.ellesbougent.com/agenda/calendrier/credit-agricole-decouverte-des-metiers-data-it-finance-2941/
SEQUENCE:0
END:VEVENT
END:VCALENDAR
