BEGIN:VCALENDAR
METHOD:PUBLISH
VERSION:2.0
CALSCALE:GREGORIAN
BEGIN:VTIMEZONE
TZID:Europe/Paris
BEGIN:DAYLIGHT
TZOFFSETFROM:+0100
RRULE:FREQ=YEARLY;BYMONTH=3;BYDAY=-1SU
DTSTART:19810329T020000
TZNAME:UTC+2
TZOFFSETTO:+0200
END:DAYLIGHT
BEGIN:STANDARD
TZOFFSETFROM:+0200
RRULE:FREQ=YEARLY;BYMONTH=10;BYDAY=-1SU
DTSTART:19961027T030000
TZNAME:UTC+1
TZOFFSETTO:+0100
END:STANDARD
END:VTIMEZONE
BEGIN:VEVENT
UID:6366
DTSTART;TZID=Europe/Paris:20251120T140000
DTEND;TZID=Europe/Paris:20251120T170000
DTSTAMP;TZID=Europe/Paris:20260424T132319
LOCATION:Six-Fours-Les-Plages
SUMMARY:Contrôler pour mieux construire : immersion avec nos Contrôleurs Techniques de Construction
DESCRIPTION:À l'occasion de la Semaine de l'industrie, vivez une immersion unique sur un chantier aux côtés de deux professionnels d'Alpes Contrôles. Vous découvrirez un métier essentiel dans le monde de la construction : Au programme :   Présentation du métier...
URL;VALUE=URI:https://www.ellesbougent.com/agenda/calendrier/controler-pour-mieux-construire-immersion-avec-nos-controleurs-techniques-de-construction-6366/
SEQUENCE:0
END:VEVENT
END:VCALENDAR
